BEGIN:VCALENDAR
VERSION:2.0
PRODID:-//Bethel Farm Yoga - ECPv6.15.20//NONSGML v1.0//EN
CALSCALE:GREGORIAN
METHOD:PUBLISH
X-WR-CALNAME:Bethel Farm Yoga
X-ORIGINAL-URL:https://bethelfarm.org
X-WR-CALDESC:Events for Bethel Farm Yoga
REFRESH-INTERVAL;VALUE=DURATION:PT1H
X-Robots-Tag:noindex
X-PUBLISHED-TTL:PT1H
BEGIN:VTIMEZONE
TZID:America/Halifax
BEGIN:DAYLIGHT
TZOFFSETFROM:-0400
TZOFFSETTO:-0300
TZNAME:ADT
DTSTART:20250309T060000
END:DAYLIGHT
BEGIN:STANDARD
TZOFFSETFROM:-0300
TZOFFSETTO:-0400
TZNAME:AST
DTSTART:20251102T050000
END:STANDARD
BEGIN:DAYLIGHT
TZOFFSETFROM:-0400
TZOFFSETTO:-0300
TZNAME:ADT
DTSTART:20260308T060000
END:DAYLIGHT
BEGIN:STANDARD
TZOFFSETFROM:-0300
TZOFFSETTO:-0400
TZNAME:AST
DTSTART:20261101T050000
END:STANDARD
BEGIN:DAYLIGHT
TZOFFSETFROM:-0400
TZOFFSETTO:-0300
TZNAME:ADT
DTSTART:20270314T060000
END:DAYLIGHT
BEGIN:STANDARD
TZOFFSETFROM:-0300
TZOFFSETTO:-0400
TZNAME:AST
DTSTART:20271107T050000
END:STANDARD
END:VTIMEZONE
BEGIN:VEVENT
DTSTART;TZID=America/Halifax:20260605T080000
DTEND;TZID=America/Halifax:20260607T170000
DTSTAMP:20260420T234645
CREATED:20260224T145908Z
LAST-MODIFIED:20260224T145910Z
UID:14106-1780646400-1780851600@bethelfarm.org
SUMMARY:Closed Retreat
DESCRIPTION:
URL:https://bethelfarm.org/event/closed-retreat-2/
END:VEVENT
BEGIN:VEVENT
DTSTART;TZID=America/Halifax:20260618T080000
DTEND;TZID=America/Halifax:20260621T170000
DTSTAMP:20260420T234645
CREATED:20260224T150050Z
LAST-MODIFIED:20260316T215229Z
UID:14108-1781769600-1782061200@bethelfarm.org
SUMMARY:Yoga Retreat
DESCRIPTION:
URL:https://bethelfarm.org/event/retreat-info-pending-9/
END:VEVENT
END:VCALENDAR