BEGIN:VCALENDAR
VERSION:2.0
PRODID:-//Bethel Farm Yoga - ECPv6.15.20//NONSGML v1.0//EN
CALSCALE:GREGORIAN
METHOD:PUBLISH
X-WR-CALNAME:Bethel Farm Yoga
X-ORIGINAL-URL:https://bethelfarm.org
X-WR-CALDESC:Events for Bethel Farm Yoga
REFRESH-INTERVAL;VALUE=DURATION:PT1H
X-Robots-Tag:noindex
X-PUBLISHED-TTL:PT1H
BEGIN:VTIMEZONE
TZID:America/Halifax
BEGIN:DAYLIGHT
TZOFFSETFROM:-0400
TZOFFSETTO:-0300
TZNAME:ADT
DTSTART:20250309T060000
END:DAYLIGHT
BEGIN:STANDARD
TZOFFSETFROM:-0300
TZOFFSETTO:-0400
TZNAME:AST
DTSTART:20251102T050000
END:STANDARD
BEGIN:DAYLIGHT
TZOFFSETFROM:-0400
TZOFFSETTO:-0300
TZNAME:ADT
DTSTART:20260308T060000
END:DAYLIGHT
BEGIN:STANDARD
TZOFFSETFROM:-0300
TZOFFSETTO:-0400
TZNAME:AST
DTSTART:20261101T050000
END:STANDARD
BEGIN:DAYLIGHT
TZOFFSETFROM:-0400
TZOFFSETTO:-0300
TZNAME:ADT
DTSTART:20270314T060000
END:DAYLIGHT
BEGIN:STANDARD
TZOFFSETFROM:-0300
TZOFFSETTO:-0400
TZNAME:AST
DTSTART:20271107T050000
END:STANDARD
END:VTIMEZONE
BEGIN:VEVENT
DTSTART;TZID=America/Halifax:20260202T180000
DTEND;TZID=America/Halifax:20260202T193000
DTSTAMP:20260421T002155
CREATED:20260119T130743Z
LAST-MODIFIED:20260119T130812Z
UID:13961-1770055200-1770060600@bethelfarm.org
SUMMARY:Beginner Vinyasa Class
DESCRIPTION:Jivamukti Beginner Vinyasa ClassNo experience in yoga is necessary.  You begin where you are to learn the fundamentals of a smooth\, flowing yoga style. Basic poses are broken down into easily accessible versions\, and then integrated with the breath to create a dance-like sense of flow.  We cultivate comfort in our bodies\, diminishing self-consciousness while we gradually build flexibility\, strength and focus. \n\n\n\n\n\n\n\n\n\n\n\n\nDrop in class$20\n\n\n\n10 class pass$150\n\n\n\n	\n		\n			\n				\n					\n						\n	\n	\n\n						\n							Add to calendar						\n						\n	\n\n					\n					\n						\n															\n									\n										Google Calendar									\n								\n															\n									\n										iCalendar									\n								\n															\n									\n										Outlook 365									\n								\n															\n									\n										Outlook Live
URL:https://bethelfarm.org/event/beginner-vinyasa-class-238/
END:VEVENT
BEGIN:VEVENT
DTSTART;TZID=America/Halifax:20260203T180000
DTEND;TZID=America/Halifax:20260203T194500
DTSTAMP:20260421T002155
CREATED:20260119T131347Z
LAST-MODIFIED:20260119T131428Z
UID:13973-1770141600-1770147900@bethelfarm.org
SUMMARY:Open Level Vinyasa Class
DESCRIPTION:The Open Class means open to all levels\, from beginner to advanced\,  though some yoga experience is helpful.This is a free form\, flowing\, dance-like journey\, with slow portions\, building to vigorous peaks\, and gentling back into cooling relaxation.  Motion and stillness\, exertion and relaxation\, energetic expansion and contraction: these are the dynamic poles within which we play and experience our bodies anew.  The teacher creates a safe\, mutually supportive atmosphere for the shared inner exploration.  Employing music\, mantra\, breath exercise and a brief meditation\, the Open Class weaves it’s magic to help us reconnect to the pure core energy within us all.  \n\n\n\n\n\n\n\n\n\nDrop in class$20\n\n\n\n10 class pass$150\n\n\n\n	\n		\n			\n				\n					\n						\n	\n	\n\n						\n							Add to calendar						\n						\n	\n\n					\n					\n						\n															\n									\n										Google Calendar									\n								\n															\n									\n										iCalendar									\n								\n															\n									\n										Outlook 365									\n								\n															\n									\n										Outlook Live
URL:https://bethelfarm.org/event/open-level-vinyasa-class-290/
END:VEVENT
BEGIN:VEVENT
DTSTART;TZID=America/Halifax:20260203T194500
DTEND;TZID=America/Halifax:20260203T210000
DTSTAMP:20260421T002155
CREATED:20260123T172743Z
LAST-MODIFIED:20260123T172926Z
UID:13986-1770147900-1770152400@bethelfarm.org
SUMMARY:Vegetarian Community Potluck
DESCRIPTION:We have a very special standing community event at the farm. \n\n\n\nOnce a Month\, Join us for a Special Meal Together \n\n\n\nFirst-Tuesday-of-the-Month Potluck in the Dining Commons after 6 pm yoga practice! Come build your inner tapas and then be nourished. Bring your favorite vegetarian dish to share. If you end up not having time to prepare a dish then come anyways – there is always plenty of good food and company. \n\n\n\nIf there is a rare schedule change then it will be announced via email and/or Facebook. \n\n\n\nFeel free to contact the studio for confirmation or more details.
URL:https://bethelfarm.org/event/vegetarian-community-potluck/
END:VEVENT
BEGIN:VEVENT
DTSTART;TZID=America/Halifax:20260204T090000
DTEND;TZID=America/Halifax:20260204T103000
DTSTAMP:20260421T002155
CREATED:20260123T174638Z
LAST-MODIFIED:20260123T174838Z
UID:13996-1770195600-1770201000@bethelfarm.org
SUMMARY:Beginner Vinyasa Class
DESCRIPTION:Jivamukti Beginner Vinyasa ClassNo experience in yoga is necessary.  You begin where you are to learn the fundamentals of a smooth\, flowing yoga style. Basic poses are broken down into easily accessible versions\, and then integrated with the breath to create a dance-like sense of flow.  We cultivate comfort in our bodies\, diminishing self-consciousness while we gradually build flexibility\, strength and focus. \n\n\n\n\n\n\n\n\n\n\n\n\nDrop in class$20\n\n\n\n10 class pass$150\n\n\n\n	\n		\n			\n				\n					\n						\n	\n	\n\n						\n							Add to calendar						\n						\n	\n\n					\n					\n						\n															\n									\n										Google Calendar									\n								\n															\n									\n										iCalendar									\n								\n															\n									\n										Outlook 365									\n								\n															\n									\n										Outlook Live
URL:https://bethelfarm.org/event/beginner-vinyasa-class-242/
END:VEVENT
BEGIN:VEVENT
DTSTART;TZID=America/Halifax:20260207T090000
DTEND;TZID=America/Halifax:20260207T104500
DTSTAMP:20260421T002155
CREATED:20260129T142602Z
LAST-MODIFIED:20260129T142753Z
UID:14023-1770454800-1770461100@bethelfarm.org
SUMMARY:Open Level Vinyasa Class
DESCRIPTION:The Open Class means open to all levels\, from beginner to advanced\,  though some yoga experience is helpful.This is a free form\, flowing\, dance-like journey\, with slow portions\, building to vigorous peaks\, and gentling back into cooling relaxation.  Motion and stillness\, exertion and relaxation\, energetic expansion and contraction: these are the dynamic poles within which we play and experience our bodies anew.  The teacher creates a safe\, mutually supportive atmosphere for the shared inner exploration.  Employing music\, mantra\, breath exercise and a brief meditation\, the Open Class weaves it’s magic to help us reconnect to the pure core energy within us all.  \n\n\n\n\n\n\n\n\n\nDrop in class$20\n\n\n\n10 class pass$150\n\n\n\n	\n		\n			\n				\n					\n						\n	\n	\n\n						\n							Add to calendar						\n						\n	\n\n					\n					\n						\n															\n									\n										Google Calendar									\n								\n															\n									\n										iCalendar									\n								\n															\n									\n										Outlook 365									\n								\n															\n									\n										Outlook Live
URL:https://bethelfarm.org/event/open-level-vinyasa-class-294/
END:VEVENT
BEGIN:VEVENT
DTSTART;TZID=America/Halifax:20260209T180000
DTEND;TZID=America/Halifax:20260209T193000
DTSTAMP:20260421T002155
CREATED:20260119T130851Z
LAST-MODIFIED:20260119T130929Z
UID:13964-1770660000-1770665400@bethelfarm.org
SUMMARY:Beginner Vinyasa Class
DESCRIPTION:Jivamukti Beginner Vinyasa ClassNo experience in yoga is necessary.  You begin where you are to learn the fundamentals of a smooth\, flowing yoga style. Basic poses are broken down into easily accessible versions\, and then integrated with the breath to create a dance-like sense of flow.  We cultivate comfort in our bodies\, diminishing self-consciousness while we gradually build flexibility\, strength and focus. \n\n\n\n\n\n\n\n\n\n\n\n\nDrop in class$20\n\n\n\n10 class pass$150\n\n\n\n	\n		\n			\n				\n					\n						\n	\n	\n\n						\n							Add to calendar						\n						\n	\n\n					\n					\n						\n															\n									\n										Google Calendar									\n								\n															\n									\n										iCalendar									\n								\n															\n									\n										Outlook 365									\n								\n															\n									\n										Outlook Live
URL:https://bethelfarm.org/event/beginner-vinyasa-class-239/
END:VEVENT
BEGIN:VEVENT
DTSTART;TZID=America/Halifax:20260210T180000
DTEND;TZID=America/Halifax:20260210T194500
DTSTAMP:20260421T002155
CREATED:20260119T131522Z
LAST-MODIFIED:20260119T131853Z
UID:13976-1770746400-1770752700@bethelfarm.org
SUMMARY:Open Level Vinyasa Class
DESCRIPTION:The Open Class means open to all levels\, from beginner to advanced\,  though some yoga experience is helpful.This is a free form\, flowing\, dance-like journey\, with slow portions\, building to vigorous peaks\, and gentling back into cooling relaxation.  Motion and stillness\, exertion and relaxation\, energetic expansion and contraction: these are the dynamic poles within which we play and experience our bodies anew.  The teacher creates a safe\, mutually supportive atmosphere for the shared inner exploration.  Employing music\, mantra\, breath exercise and a brief meditation\, the Open Class weaves it’s magic to help us reconnect to the pure core energy within us all.  \n\n\n\n\n\n\n\n\n\nDrop in class$20\n\n\n\n10 class pass$150\n\n\n\n	\n		\n			\n				\n					\n						\n	\n	\n\n						\n							Add to calendar						\n						\n	\n\n					\n					\n						\n															\n									\n										Google Calendar									\n								\n															\n									\n										iCalendar									\n								\n															\n									\n										Outlook 365									\n								\n															\n									\n										Outlook Live
URL:https://bethelfarm.org/event/open-level-vinyasa-class-291/
END:VEVENT
BEGIN:VEVENT
DTSTART;TZID=America/Halifax:20260211T090000
DTEND;TZID=America/Halifax:20260211T103000
DTSTAMP:20260421T002155
CREATED:20260123T174928Z
LAST-MODIFIED:20260209T195138Z
UID:13999-1770800400-1770805800@bethelfarm.org
SUMMARY:Beginner Vinyasa Class
DESCRIPTION:This Wednesday morning class is cancelled\, class will resume as scheduled next Wednesday\, February 18th. Hope to see you then! \n\n\n\n\n\n\n\n\n		\n\n\n\nJivamukti Beginner Vinyasa ClassNo experience in yoga is necessary.  You begin where you are to learn the fundamentals of a smooth\, flowing yoga style. Basic poses are broken down into easily accessible versions\, and then integrated with the breath to create a dance-like sense of flow.  We cultivate comfort in our bodies\, diminishing self-consciousness while we gradually build flexibility\, strength and focus. \n\n\n\n\n\n\n\n\n\n\n\n\nDrop in class$20\n\n\n\n10 class pass$150\n\n\n\n	\n		\n			\n				\n					\n						\n	\n	\n\n						\n							Add to calendar						\n						\n	\n\n					\n					\n						\n															\n									\n										Google Calendar									\n								\n															\n									\n										iCalendar									\n								\n															\n									\n										Outlook 365									\n								\n															\n									\n										Outlook Live
URL:https://bethelfarm.org/event/beginner-vinyasa-class-243/
END:VEVENT
BEGIN:VEVENT
DTSTART;TZID=America/Halifax:20260214T090000
DTEND;TZID=America/Halifax:20260214T104500
DTSTAMP:20260421T002155
CREATED:20260129T152857Z
LAST-MODIFIED:20260129T152930Z
UID:14030-1771059600-1771065900@bethelfarm.org
SUMMARY:Open Level Vinyasa Class
DESCRIPTION:The Open Class means open to all levels\, from beginner to advanced\,  though some yoga experience is helpful.This is a free form\, flowing\, dance-like journey\, with slow portions\, building to vigorous peaks\, and gentling back into cooling relaxation.  Motion and stillness\, exertion and relaxation\, energetic expansion and contraction: these are the dynamic poles within which we play and experience our bodies anew.  The teacher creates a safe\, mutually supportive atmosphere for the shared inner exploration.  Employing music\, mantra\, breath exercise and a brief meditation\, the Open Class weaves it’s magic to help us reconnect to the pure core energy within us all.  \n\n\n\n\n\n\n\n\n\nDrop in class$20\n\n\n\n10 class pass$150\n\n\n\n	\n		\n			\n				\n					\n						\n	\n	\n\n						\n							Add to calendar						\n						\n	\n\n					\n					\n						\n															\n									\n										Google Calendar									\n								\n															\n									\n										iCalendar									\n								\n															\n									\n										Outlook 365									\n								\n															\n									\n										Outlook Live
URL:https://bethelfarm.org/event/open-level-vinyasa-class-295/
END:VEVENT
BEGIN:VEVENT
DTSTART;TZID=America/Halifax:20260216T180000
DTEND;TZID=America/Halifax:20260216T193000
DTSTAMP:20260421T002155
CREATED:20260119T131005Z
LAST-MODIFIED:20260119T131036Z
UID:13967-1771264800-1771270200@bethelfarm.org
SUMMARY:Beginner Vinyasa Class
DESCRIPTION:Jivamukti Beginner Vinyasa ClassNo experience in yoga is necessary.  You begin where you are to learn the fundamentals of a smooth\, flowing yoga style. Basic poses are broken down into easily accessible versions\, and then integrated with the breath to create a dance-like sense of flow.  We cultivate comfort in our bodies\, diminishing self-consciousness while we gradually build flexibility\, strength and focus. \n\n\n\n\n\n\n\n\n\n\n\n\nDrop in class$20\n\n\n\n10 class pass$150\n\n\n\n	\n		\n			\n				\n					\n						\n	\n	\n\n						\n							Add to calendar						\n						\n	\n\n					\n					\n						\n															\n									\n										Google Calendar									\n								\n															\n									\n										iCalendar									\n								\n															\n									\n										Outlook 365									\n								\n															\n									\n										Outlook Live
URL:https://bethelfarm.org/event/beginner-vinyasa-class-240/
END:VEVENT
BEGIN:VEVENT
DTSTART;TZID=America/Halifax:20260217T180000
DTEND;TZID=America/Halifax:20260217T194500
DTSTAMP:20260421T002155
CREATED:20260119T131937Z
LAST-MODIFIED:20260119T132126Z
UID:13979-1771351200-1771357500@bethelfarm.org
SUMMARY:Open Level Vinyasa Class
DESCRIPTION:The Open Class means open to all levels\, from beginner to advanced\,  though some yoga experience is helpful.This is a free form\, flowing\, dance-like journey\, with slow portions\, building to vigorous peaks\, and gentling back into cooling relaxation.  Motion and stillness\, exertion and relaxation\, energetic expansion and contraction: these are the dynamic poles within which we play and experience our bodies anew.  The teacher creates a safe\, mutually supportive atmosphere for the shared inner exploration.  Employing music\, mantra\, breath exercise and a brief meditation\, the Open Class weaves it’s magic to help us reconnect to the pure core energy within us all.  \n\n\n\n\n\n\n\n\n\nDrop in class$20\n\n\n\n10 class pass$150\n\n\n\n	\n		\n			\n				\n					\n						\n	\n	\n\n						\n							Add to calendar						\n						\n	\n\n					\n					\n						\n															\n									\n										Google Calendar									\n								\n															\n									\n										iCalendar									\n								\n															\n									\n										Outlook 365									\n								\n															\n									\n										Outlook Live
URL:https://bethelfarm.org/event/open-level-vinyasa-class-292/
END:VEVENT
BEGIN:VEVENT
DTSTART;TZID=America/Halifax:20260218T090000
DTEND;TZID=America/Halifax:20260218T103000
DTSTAMP:20260421T002155
CREATED:20260123T175247Z
LAST-MODIFIED:20260123T175357Z
UID:14002-1771405200-1771410600@bethelfarm.org
SUMMARY:Beginner Vinyasa Class
DESCRIPTION:Jivamukti Beginner Vinyasa ClassNo experience in yoga is necessary.  You begin where you are to learn the fundamentals of a smooth\, flowing yoga style. Basic poses are broken down into easily accessible versions\, and then integrated with the breath to create a dance-like sense of flow.  We cultivate comfort in our bodies\, diminishing self-consciousness while we gradually build flexibility\, strength and focus. \n\n\n\n\n\n\n\n\n\n\n\n\nDrop in class$20\n\n\n\n10 class pass$150\n\n\n\n	\n		\n			\n				\n					\n						\n	\n	\n\n						\n							Add to calendar						\n						\n	\n\n					\n					\n						\n															\n									\n										Google Calendar									\n								\n															\n									\n										iCalendar									\n								\n															\n									\n										Outlook 365									\n								\n															\n									\n										Outlook Live
URL:https://bethelfarm.org/event/beginner-vinyasa-class-244/
END:VEVENT
BEGIN:VEVENT
DTSTART;TZID=America/Halifax:20260220T174500
DTEND;TZID=America/Halifax:20260220T203000
DTSTAMP:20260421T002155
CREATED:20260128T181923Z
LAST-MODIFIED:20260128T183241Z
UID:14016-1771609500-1771619400@bethelfarm.org
SUMMARY:Yoga & Sauna Night
DESCRIPTION:Join one or both- $35 for both\, $20 for yoga only (or class pass)\, $15 for sauna only \n\n\n\n\n\n\n\n\n\n\n\n\n\nJoin Melodie for a rejuvenating Slow Flow Yoga Class every third Friday of the month at 5:45 PM. All levels are welcome — whether you’re new to yoga or deep in your practice\, this is your time to unwind\, soften and sweat. \n\n\n\nWe’ll gather in the wood-fired heated studio\, where gentle warmth supports the body unfurling into the practice. After the 75 min class the wood fired sauna will be ready for us to continue the process of releasing and renewing! The pond is available for invigorating cold dips as well.  \n\n\n\nPlease be sure to bring a bathing suit\, water and towel.
URL:https://bethelfarm.org/event/yoga-sauna-night/
END:VEVENT
BEGIN:VEVENT
DTSTART;TZID=America/Halifax:20260221T090000
DTEND;TZID=America/Halifax:20260221T104500
DTSTAMP:20260421T002155
CREATED:20260129T153010Z
LAST-MODIFIED:20260129T153049Z
UID:14033-1771664400-1771670700@bethelfarm.org
SUMMARY:Open Level Vinyasa Class
DESCRIPTION:The Open Class means open to all levels\, from beginner to advanced\,  though some yoga experience is helpful.This is a free form\, flowing\, dance-like journey\, with slow portions\, building to vigorous peaks\, and gentling back into cooling relaxation.  Motion and stillness\, exertion and relaxation\, energetic expansion and contraction: these are the dynamic poles within which we play and experience our bodies anew.  The teacher creates a safe\, mutually supportive atmosphere for the shared inner exploration.  Employing music\, mantra\, breath exercise and a brief meditation\, the Open Class weaves it’s magic to help us reconnect to the pure core energy within us all.  \n\n\n\n\n\n\n\n\n\nDrop in class$20\n\n\n\n10 class pass$150\n\n\n\n	\n		\n			\n				\n					\n						\n	\n	\n\n						\n							Add to calendar						\n						\n	\n\n					\n					\n						\n															\n									\n										Google Calendar									\n								\n															\n									\n										iCalendar									\n								\n															\n									\n										Outlook 365									\n								\n															\n									\n										Outlook Live
URL:https://bethelfarm.org/event/open-level-vinyasa-class-296/
END:VEVENT
BEGIN:VEVENT
DTSTART;TZID=America/Halifax:20260223T180000
DTEND;TZID=America/Halifax:20260223T193000
DTSTAMP:20260421T002155
CREATED:20260119T131110Z
LAST-MODIFIED:20260119T131141Z
UID:13970-1771869600-1771875000@bethelfarm.org
SUMMARY:Beginner Vinyasa Class
DESCRIPTION:Jivamukti Beginner Vinyasa ClassNo experience in yoga is necessary.  You begin where you are to learn the fundamentals of a smooth\, flowing yoga style. Basic poses are broken down into easily accessible versions\, and then integrated with the breath to create a dance-like sense of flow.  We cultivate comfort in our bodies\, diminishing self-consciousness while we gradually build flexibility\, strength and focus. \n\n\n\n\n\n\n\n\n\n\n\n\nDrop in class$20\n\n\n\n10 class pass$150\n\n\n\n	\n		\n			\n				\n					\n						\n	\n	\n\n						\n							Add to calendar						\n						\n	\n\n					\n					\n						\n															\n									\n										Google Calendar									\n								\n															\n									\n										iCalendar									\n								\n															\n									\n										Outlook 365									\n								\n															\n									\n										Outlook Live
URL:https://bethelfarm.org/event/beginner-vinyasa-class-241/
END:VEVENT
BEGIN:VEVENT
DTSTART;TZID=America/Halifax:20260224T180000
DTEND;TZID=America/Halifax:20260224T194500
DTSTAMP:20260421T002155
CREATED:20260119T132209Z
LAST-MODIFIED:20260119T132241Z
UID:13982-1771956000-1771962300@bethelfarm.org
SUMMARY:Open Level Vinyasa Class
DESCRIPTION:The Open Class means open to all levels\, from beginner to advanced\,  though some yoga experience is helpful.This is a free form\, flowing\, dance-like journey\, with slow portions\, building to vigorous peaks\, and gentling back into cooling relaxation.  Motion and stillness\, exertion and relaxation\, energetic expansion and contraction: these are the dynamic poles within which we play and experience our bodies anew.  The teacher creates a safe\, mutually supportive atmosphere for the shared inner exploration.  Employing music\, mantra\, breath exercise and a brief meditation\, the Open Class weaves it’s magic to help us reconnect to the pure core energy within us all.  \n\n\n\n\n\n\n\n\n\nDrop in class$20\n\n\n\n10 class pass$150\n\n\n\n	\n		\n			\n				\n					\n						\n	\n	\n\n						\n							Add to calendar						\n						\n	\n\n					\n					\n						\n															\n									\n										Google Calendar									\n								\n															\n									\n										iCalendar									\n								\n															\n									\n										Outlook 365									\n								\n															\n									\n										Outlook Live
URL:https://bethelfarm.org/event/open-level-vinyasa-class-293/
END:VEVENT
BEGIN:VEVENT
DTSTART;TZID=America/Halifax:20260225T090000
DTEND;TZID=America/Halifax:20260225T103000
DTSTAMP:20260421T002155
CREATED:20260123T175510Z
LAST-MODIFIED:20260123T175609Z
UID:14005-1772010000-1772015400@bethelfarm.org
SUMMARY:Beginner Vinyasa Class
DESCRIPTION:Jivamukti Beginner Vinyasa ClassNo experience in yoga is necessary.  You begin where you are to learn the fundamentals of a smooth\, flowing yoga style. Basic poses are broken down into easily accessible versions\, and then integrated with the breath to create a dance-like sense of flow.  We cultivate comfort in our bodies\, diminishing self-consciousness while we gradually build flexibility\, strength and focus. \n\n\n\n\n\n\n\n\n\n\n\n\nDrop in class$20\n\n\n\n10 class pass$150\n\n\n\n	\n		\n			\n				\n					\n						\n	\n	\n\n						\n							Add to calendar						\n						\n	\n\n					\n					\n						\n															\n									\n										Google Calendar									\n								\n															\n									\n										iCalendar									\n								\n															\n									\n										Outlook 365									\n								\n															\n									\n										Outlook Live
URL:https://bethelfarm.org/event/beginner-vinyasa-class-245/
END:VEVENT
BEGIN:VEVENT
DTSTART;TZID=America/Halifax:20260228T090000
DTEND;TZID=America/Halifax:20260228T104500
DTSTAMP:20260421T002155
CREATED:20260129T153151Z
LAST-MODIFIED:20260129T153243Z
UID:14036-1772269200-1772275500@bethelfarm.org
SUMMARY:Open Level Vinyasa Class
DESCRIPTION:The Open Class means open to all levels\, from beginner to advanced\,  though some yoga experience is helpful.This is a free form\, flowing\, dance-like journey\, with slow portions\, building to vigorous peaks\, and gentling back into cooling relaxation.  Motion and stillness\, exertion and relaxation\, energetic expansion and contraction: these are the dynamic poles within which we play and experience our bodies anew.  The teacher creates a safe\, mutually supportive atmosphere for the shared inner exploration.  Employing music\, mantra\, breath exercise and a brief meditation\, the Open Class weaves it’s magic to help us reconnect to the pure core energy within us all.  \n\n\n\n\n\n\n\n\n\nDrop in class$20\n\n\n\n10 class pass$150\n\n\n\n	\n		\n			\n				\n					\n						\n	\n	\n\n						\n							Add to calendar						\n						\n	\n\n					\n					\n						\n															\n									\n										Google Calendar									\n								\n															\n									\n										iCalendar									\n								\n															\n									\n										Outlook 365									\n								\n															\n									\n										Outlook Live
URL:https://bethelfarm.org/event/open-level-vinyasa-class-297/
END:VEVENT
END:VCALENDAR