BEGIN:VCALENDAR
VERSION:2.0
PRODID:-//Bethel Farm Yoga - ECPv6.15.20//NONSGML v1.0//EN
CALSCALE:GREGORIAN
METHOD:PUBLISH
X-WR-CALNAME:Bethel Farm Yoga
X-ORIGINAL-URL:https://bethelfarm.org
X-WR-CALDESC:Events for Bethel Farm Yoga
REFRESH-INTERVAL;VALUE=DURATION:PT1H
X-Robots-Tag:noindex
X-PUBLISHED-TTL:PT1H
BEGIN:VTIMEZONE
TZID:UTC
BEGIN:STANDARD
TZOFFSETFROM:+0000
TZOFFSETTO:+0000
TZNAME:UTC
DTSTART:20210101T000000
END:STANDARD
END:VTIMEZONE
BEGIN:VEVENT
DTSTART;TZID=UTC:20221024T180000
DTEND;TZID=UTC:20221024T193000
DTSTAMP:20260422T015114
CREATED:20221020T213939Z
LAST-MODIFIED:20221026T224515Z
UID:7100-1666634400-1666639800@bethelfarm.org
SUMMARY:Beginner Vinyasa Class
DESCRIPTION:*Studio open at 5:30 pm for meditation \n\n\n\n\n\n\n\nJivamukti Beginner Vinyasa ClassNo experience in yoga is necessary.  You begin where you are to learn the fundamentals of a smooth\, flowing yoga style. Basic poses are broken down into easily accessible versions\, and then integrated with the breath to create a dance-like sense of flow.  We cultivate comfort in our bodies\, diminishing self-consciousness while we gradually build flexibility\, strength and focus. \n\n\n\n\n\n\n\n\n\n\nDrop in-$20.00 \n\n\n\n10 Class Pass-$150.00
URL:https://bethelfarm.org/event/beginner-vinyasa-class/
LOCATION:Bethel Farm Yoga Studio
CATEGORIES:Bethel Farm Class or Workshop
END:VEVENT
BEGIN:VEVENT
DTSTART;TZID=UTC:20221025T180000
DTEND;TZID=UTC:20221025T194500
DTSTAMP:20260422T015114
CREATED:20221020T213339Z
LAST-MODIFIED:20221214T163850Z
UID:7105-1666720800-1666727100@bethelfarm.org
SUMMARY:Open Level Vinyasa Class 
DESCRIPTION:(Studio open at 5:30 pm for meditation) \n\n\n\n\n\n\n\n\n\n\n\n\n\n\n\nThe Open Class means open to all levels\, from beginner to advanced\,  though some yoga experience is helpful. \n\n\n\nThis is a free form\, flowing\, dance-like journey\, with slow portions\, building to vigorous peaks\, and gentling back into cooling relaxation.  Motion and stillness\, exertion and relaxation\, energetic expansion and contraction: these are the dynamic poles within which we play and experience our bodies anew.  The teacher creates a safe\, mutually supportive atmosphere for the shared inner exploration.  Employing music\, mantra\, breath exercise and a brief meditation\, the Open Class weaves it’s magic to help us reconnect to the pure core energy within us all. \n\n\n\n\nDrop In-$20.00\n\n\n\n10 Class Pass-$150
URL:https://bethelfarm.org/event/open-level-vinyasa-class/
CATEGORIES:Bethel Farm Class or Workshop
END:VEVENT
BEGIN:VEVENT
DTSTART;TZID=UTC:20221026T180000
DTEND;TZID=UTC:20221026T193000
DTSTAMP:20260422T015114
CREATED:20221026T225522Z
LAST-MODIFIED:20221026T231811Z
UID:7357-1666807200-1666812600@bethelfarm.org
SUMMARY:Beginner Vinyasa Class
DESCRIPTION:*Studio open at 5:30 pm for meditation \n\n\n\n\n\n\n\nJivamukti Beginner Vinyasa ClassNo experience in yoga is necessary.  You begin where you are to learn the fundamentals of a smooth\, flowing yoga style. Basic poses are broken down into easily accessible versions\, and then integrated with the breath to create a dance-like sense of flow.  We cultivate comfort in our bodies\, diminishing self-consciousness while we gradually build flexibility\, strength and focus. \n\n\n\n\n\n\n\n\n\n\nDrop in-$20.00\n\n\n\n10 Class Pass-$150
URL:https://bethelfarm.org/event/beginner-vinyasa-class-3/
CATEGORIES:Bethel Farm Class or Workshop
END:VEVENT
BEGIN:VEVENT
DTSTART;TZID=UTC:20221031T180000
DTEND;TZID=UTC:20221031T193000
DTSTAMP:20260422T015114
CREATED:20221026T221741Z
LAST-MODIFIED:20221123T235652Z
UID:7335-1667239200-1667244600@bethelfarm.org
SUMMARY:Beginner Vinyasa Class
DESCRIPTION:*Studio open at 5:30 pm for meditation \n\n\n\n\n\n\n\n\n\n\n\n\n\n\n\nJivamukti Beginner Vinyasa ClassNo experience in yoga is necessary.  You begin where you are to learn the fundamentals of a smooth\, flowing yoga style. Basic poses are broken down into easily accessible versions\, and then integrated with the breath to create a dance-like sense of flow.  We cultivate comfort in our bodies\, diminishing self-consciousness while we gradually build flexibility\, strength and focus. \n\n\n\n\nDrop in-$20.00\n\n\n\n10 Class Pass-$150.00
URL:https://bethelfarm.org/event/beginner-vinyasa-class-2/
CATEGORIES:Bethel Farm Class or Workshop
END:VEVENT
END:VCALENDAR