BEGIN:VCALENDAR
VERSION:2.0
PRODID:-//Bethel Farm Yoga - ECPv6.15.20//NONSGML v1.0//EN
CALSCALE:GREGORIAN
METHOD:PUBLISH
X-WR-CALNAME:Bethel Farm Yoga
X-ORIGINAL-URL:https://bethelfarm.org
X-WR-CALDESC:Events for Bethel Farm Yoga
REFRESH-INTERVAL;VALUE=DURATION:PT1H
X-Robots-Tag:noindex
X-PUBLISHED-TTL:PT1H
BEGIN:VTIMEZONE
TZID:America/Halifax
BEGIN:DAYLIGHT
TZOFFSETFROM:-0400
TZOFFSETTO:-0300
TZNAME:ADT
DTSTART:20250309T060000
END:DAYLIGHT
BEGIN:STANDARD
TZOFFSETFROM:-0300
TZOFFSETTO:-0400
TZNAME:AST
DTSTART:20251102T050000
END:STANDARD
BEGIN:DAYLIGHT
TZOFFSETFROM:-0400
TZOFFSETTO:-0300
TZNAME:ADT
DTSTART:20260308T060000
END:DAYLIGHT
BEGIN:STANDARD
TZOFFSETFROM:-0300
TZOFFSETTO:-0400
TZNAME:AST
DTSTART:20261101T050000
END:STANDARD
BEGIN:DAYLIGHT
TZOFFSETFROM:-0400
TZOFFSETTO:-0300
TZNAME:ADT
DTSTART:20270314T060000
END:DAYLIGHT
BEGIN:STANDARD
TZOFFSETFROM:-0300
TZOFFSETTO:-0400
TZNAME:AST
DTSTART:20271107T050000
END:STANDARD
END:VTIMEZONE
BEGIN:VEVENT
DTSTART;TZID=America/Halifax:20260420T180000
DTEND;TZID=America/Halifax:20260420T193000
DTSTAMP:20260420T221230
CREATED:20260406T130810Z
LAST-MODIFIED:20260406T134724Z
UID:14185-1776708000-1776713400@bethelfarm.org
SUMMARY:Beginner Vinyasa Class
DESCRIPTION:Jivamukti Beginner Vinyasa ClassNo experience in yoga is necessary.  You begin where you are to learn the fundamentals of a smooth\, flowing yoga style. Basic poses are broken down into easily accessible versions\, and then integrated with the breath to create a dance-like sense of flow.  We cultivate comfort in our bodies\, diminishing self-consciousness while we gradually build flexibility\, strength and focus. \n\n\n\n\n\n\n\n\n\n\n\n\nDrop in class$20\n\n\n\n10 class pass$150\n\n\n\n	\n		\n			\n				\n					\n						\n	\n	\n\n						\n							Add to calendar						\n						\n	\n\n					\n					\n						\n															\n									\n										Google Calendar									\n								\n															\n									\n										iCalendar									\n								\n															\n									\n										Outlook 365									\n								\n															\n									\n										Outlook Live
URL:https://bethelfarm.org/event/beginner-vinyasa-class-259/
END:VEVENT
END:VCALENDAR